BEGIN:VCALENDAR
VERSION:2.0
PRODID:-//Tom Jonze - ECPv6.15.20//NONSGML v1.0//EN
CALSCALE:GREGORIAN
METHOD:PUBLISH
X-ORIGINAL-URL:https://tomjonze.com
X-WR-CALDESC:Events for Tom Jonze
REFRESH-INTERVAL;VALUE=DURATION:PT1H
X-Robots-Tag:noindex
X-PUBLISHED-TTL:PT1H
BEGIN:VTIMEZONE
TZID:UTC
BEGIN:STANDARD
TZOFFSETFROM:+0000
TZOFFSETTO:+0000
TZNAME:UTC
DTSTART:20250101T000000
END:STANDARD
END:VTIMEZONE
BEGIN:VEVENT
DTSTART;TZID=UTC:20260217T190000
DTEND;TZID=UTC:20260217T210000
DTSTAMP:20260425T042425
CREATED:20260217T232815Z
LAST-MODIFIED:20260217T232815Z
UID:197-1771354800-1771362000@tomjonze.com
SUMMARY:The Function
DESCRIPTION:
URL:https://tomjonze.com/event/the-function/
LOCATION:The Function\, 1414 Market St\, San Francisco\, CA\, 94102\, United States
CATEGORIES:Comedy,Stand up
END:VEVENT
BEGIN:VEVENT
DTSTART;TZID=UTC:20260224T190000
DTEND;TZID=UTC:20260224T210000
DTSTAMP:20260425T042425
CREATED:20260217T232657Z
LAST-MODIFIED:20260217T232657Z
UID:193-1771959600-1771966800@tomjonze.com
SUMMARY:Bambinos in Concord
DESCRIPTION:
URL:https://tomjonze.com/event/bambinos-in-concord/
LOCATION:Bambinos\, 1895 Farm Bureau Rd suite g\,\, Concord\, CA\, 94519\, United States
CATEGORIES:Comedy,Stand up
END:VEVENT
BEGIN:VEVENT
DTSTART;TZID=UTC:20260226T190000
DTEND;TZID=UTC:20260226T220000
DTSTAMP:20260425T042425
CREATED:20260217T232947Z
LAST-MODIFIED:20260217T232947Z
UID:199-1772132400-1772143200@tomjonze.com
SUMMARY:Neck Of The Woods
DESCRIPTION:
URL:https://tomjonze.com/event/neck-of-the-woods/
LOCATION:Neck Of The Woods\, 406 Clement St\, San Francisco\, CA\, 94118
CATEGORIES:Comedy,Stand up
END:VEVENT
END:VCALENDAR