BEGIN:VCALENDAR
VERSION:2.0
PRODID:-//Tom Jonze - ECPv6.15.20//NONSGML v1.0//EN
CALSCALE:GREGORIAN
METHOD:PUBLISH
X-WR-CALNAME:Tom Jonze
X-ORIGINAL-URL:https://tomjonze.com
X-WR-CALDESC:Events for Tom Jonze
REFRESH-INTERVAL;VALUE=DURATION:PT1H
X-Robots-Tag:noindex
X-PUBLISHED-TTL:PT1H
BEGIN:VTIMEZONE
TZID:America/Los_Angeles
BEGIN:DAYLIGHT
TZOFFSETFROM:-0800
TZOFFSETTO:-0700
TZNAME:PDT
DTSTART:20240310T100000
END:DAYLIGHT
BEGIN:STANDARD
TZOFFSETFROM:-0700
TZOFFSETTO:-0800
TZNAME:PST
DTSTART:20241103T090000
END:STANDARD
BEGIN:DAYLIGHT
TZOFFSETFROM:-0800
TZOFFSETTO:-0700
TZNAME:PDT
DTSTART:20250309T100000
END:DAYLIGHT
BEGIN:STANDARD
TZOFFSETFROM:-0700
TZOFFSETTO:-0800
TZNAME:PST
DTSTART:20251102T090000
END:STANDARD
BEGIN:DAYLIGHT
TZOFFSETFROM:-0800
TZOFFSETTO:-0700
TZNAME:PDT
DTSTART:20260308T100000
END:DAYLIGHT
BEGIN:STANDARD
TZOFFSETFROM:-0700
TZOFFSETTO:-0800
TZNAME:PST
DTSTART:20261101T090000
END:STANDARD
END:VTIMEZONE
BEGIN:VTIMEZONE
TZID:UTC
BEGIN:STANDARD
TZOFFSETFROM:+0000
TZOFFSETTO:+0000
TZNAME:UTC
DTSTART:20240101T000000
END:STANDARD
END:VTIMEZONE
BEGIN:VEVENT
DTSTART;TZID=America/Los_Angeles:20250916T190000
DTEND;TZID=America/Los_Angeles:20250916T210000
DTSTAMP:20260425T103551
CREATED:20250916T062726Z
LAST-MODIFIED:20250916T063203Z
UID:146-1758049200-1758056400@tomjonze.com
SUMMARY:Sunset Comedy @ Mersea
DESCRIPTION:Alameda Comedy presents Sunset Comedy @ Mersea.  A beautiful backdrop for the hilarity to ensue. Come through!
URL:https://tomjonze.com/event/sunset-comedy-mersea/
LOCATION:Mersea\, 699 Avenue of the Palms\, San Francisco\, CA\, 94130
CATEGORIES:Comedy,Stand up
ATTACH;FMTTYPE=image/jpeg:https://tomjonze.com/wp-content/uploads/2025/09/Sunset-Comedy-at-Mersea-UPDATED-WIDE.jpg
END:VEVENT
BEGIN:VEVENT
DTSTART;TZID=UTC:20250918T200000
DTEND;TZID=UTC:20250918T220000
DTSTAMP:20260425T103551
CREATED:20250916T061652Z
LAST-MODIFIED:20250916T061652Z
UID:139-1758225600-1758232800@tomjonze.com
SUMMARY:"BEST OF THE BAY" Stand-Up Comedy @ The Showdown (North Beach\, SF)
DESCRIPTION:Doug Cordell\, Mollica Sokhom\, Mark Noyer\, and Kate Carson are also on the bill\, hosted and produced by Anthony Mitchell.
URL:https://tomjonze.com/event/best-of-the-bay-stand-up-comedy-the-showdown-north-beach-sf/
LOCATION:The Showdown\, 1268 Grant Ave\, San Francisco\, CA\, 94133
CATEGORIES:Comedy,Stand up
ATTACH;FMTTYPE=image/png:https://tomjonze.com/wp-content/uploads/2025/09/549608267_24416964464665069_2772865753612663658_n.png
END:VEVENT
BEGIN:VEVENT
DTSTART;TZID=UTC:20250920T200000
DTEND;TZID=UTC:20250920T220000
DTSTAMP:20260425T103551
CREATED:20250916T063751Z
LAST-MODIFIED:20250916T063751Z
UID:152-1758398400-1758405600@tomjonze.com
SUMMARY:Comedy Oakland @ Calabash
DESCRIPTION:with Phil Johnson\, Priya Shekar\, Luis Perez (my favorite Bay Area luddite)\, Candy Shaw\, and Ira Summer.
URL:https://tomjonze.com/event/comedy-oakland-calabash/
LOCATION:Calabash\, 2300 Valdez St\, Oakland\, CA\, 94612
CATEGORIES:Comedy,Stand up
ATTACH;FMTTYPE=image/jpeg:https://tomjonze.com/wp-content/uploads/2025/09/COCalabash.jpg
END:VEVENT
BEGIN:VEVENT
DTSTART;TZID=UTC:20250923T193000
DTEND;TZID=UTC:20250923T203000
DTSTAMP:20260425T103551
CREATED:20250916T064749Z
LAST-MODIFIED:20250916T064805Z
UID:157-1758655800-1758659400@tomjonze.com
SUMMARY:A Guy From Nowhere Presents Luna Sea Lounge Showcase
DESCRIPTION:I\, tomjonze\, will attempt what has never been attempted before … personally.  I will run a second showcase … monthly. Luna Sea Lounge will mix up the strong cocktails to coat your throat to cackle uncontrollably. \nI know I know\, where will I find the time to find new concepts to turn into brilliant humor with all this time spent on throwing two whole shows a month?!  I will just have to ask LordBezos to clone me.  Please come out to this tipped show and provide me enough tips* to buy a BezosBrandCopyTom3000. \n* all tips will be paid to Wonder Dave\, Dan Lewis\, and the inimitable CJ Koepp. I take only pride from entertaining scores of comedy fans.
URL:https://tomjonze.com/event/a-guy-from-nowhere-presents-luna-sea-lounge-showcase/
LOCATION:Luna Sea Lounge\, 121 Pringle Ave\, Walnut Creek\, CA\, 94596
CATEGORIES:Comedy,Stand up
ATTACH;FMTTYPE=image/png:https://tomjonze.com/wp-content/uploads/2025/09/Luna-Sea-Show.png
END:VEVENT
END:VCALENDAR