BEGIN:VCALENDAR
VERSION:2.0
PRODID:-//Tom Jonze - ECPv6.15.20//NONSGML v1.0//EN
CALSCALE:GREGORIAN
METHOD:PUBLISH
X-WR-CALNAME:Tom Jonze
X-ORIGINAL-URL:https://tomjonze.com
X-WR-CALDESC:Events for Tom Jonze
REFRESH-INTERVAL;VALUE=DURATION:PT1H
X-Robots-Tag:noindex
X-PUBLISHED-TTL:PT1H
BEGIN:VTIMEZONE
TZID:UTC
BEGIN:STANDARD
TZOFFSETFROM:+0000
TZOFFSETTO:+0000
TZNAME:UTC
DTSTART:20240101T000000
END:STANDARD
END:VTIMEZONE
BEGIN:VTIMEZONE
TZID:America/Denver
BEGIN:DAYLIGHT
TZOFFSETFROM:-0700
TZOFFSETTO:-0600
TZNAME:MDT
DTSTART:20240310T090000
END:DAYLIGHT
BEGIN:STANDARD
TZOFFSETFROM:-0600
TZOFFSETTO:-0700
TZNAME:MST
DTSTART:20241103T080000
END:STANDARD
BEGIN:DAYLIGHT
TZOFFSETFROM:-0700
TZOFFSETTO:-0600
TZNAME:MDT
DTSTART:20250309T090000
END:DAYLIGHT
BEGIN:STANDARD
TZOFFSETFROM:-0600
TZOFFSETTO:-0700
TZNAME:MST
DTSTART:20251102T080000
END:STANDARD
BEGIN:DAYLIGHT
TZOFFSETFROM:-0700
TZOFFSETTO:-0600
TZNAME:MDT
DTSTART:20260308T090000
END:DAYLIGHT
BEGIN:STANDARD
TZOFFSETFROM:-0600
TZOFFSETTO:-0700
TZNAME:MST
DTSTART:20261101T080000
END:STANDARD
END:VTIMEZONE
BEGIN:VTIMEZONE
TZID:America/Los_Angeles
BEGIN:DAYLIGHT
TZOFFSETFROM:-0800
TZOFFSETTO:-0700
TZNAME:PDT
DTSTART:20240310T100000
END:DAYLIGHT
BEGIN:STANDARD
TZOFFSETFROM:-0700
TZOFFSETTO:-0800
TZNAME:PST
DTSTART:20241103T090000
END:STANDARD
BEGIN:DAYLIGHT
TZOFFSETFROM:-0800
TZOFFSETTO:-0700
TZNAME:PDT
DTSTART:20250309T100000
END:DAYLIGHT
BEGIN:STANDARD
TZOFFSETFROM:-0700
TZOFFSETTO:-0800
TZNAME:PST
DTSTART:20251102T090000
END:STANDARD
BEGIN:DAYLIGHT
TZOFFSETFROM:-0800
TZOFFSETTO:-0700
TZNAME:PDT
DTSTART:20260308T100000
END:DAYLIGHT
BEGIN:STANDARD
TZOFFSETFROM:-0700
TZOFFSETTO:-0800
TZNAME:PST
DTSTART:20261101T090000
END:STANDARD
END:VTIMEZONE
BEGIN:VEVENT
DTSTART;TZID=UTC:20260224T190000
DTEND;TZID=UTC:20260224T210000
DTSTAMP:20260425T143936
CREATED:20260217T232657Z
LAST-MODIFIED:20260217T232657Z
UID:193-1771959600-1771966800@tomjonze.com
SUMMARY:Bambinos in Concord
DESCRIPTION:
URL:https://tomjonze.com/event/bambinos-in-concord/
LOCATION:Bambinos\, 1895 Farm Bureau Rd suite g\,\, Concord\, CA\, 94519\, United States
CATEGORIES:Comedy,Stand up
END:VEVENT
BEGIN:VEVENT
DTSTART;TZID=UTC:20260217T190000
DTEND;TZID=UTC:20260217T210000
DTSTAMP:20260425T143936
CREATED:20260217T232815Z
LAST-MODIFIED:20260217T232815Z
UID:197-1771354800-1771362000@tomjonze.com
SUMMARY:The Function
DESCRIPTION:
URL:https://tomjonze.com/event/the-function/
LOCATION:The Function\, 1414 Market St\, San Francisco\, CA\, 94102\, United States
CATEGORIES:Comedy,Stand up
END:VEVENT
BEGIN:VEVENT
DTSTART;TZID=UTC:20251012T160000
DTEND;TZID=UTC:20251012T180000
DTSTAMP:20260425T143936
CREATED:20250916T060436Z
LAST-MODIFIED:20250916T060532Z
UID:137-1760284800-1760292000@tomjonze.com
SUMMARY:Sidecar 4PM Showcase
DESCRIPTION:Join us for a late afternoon of laughter with seven of the best comedians at the coolest coworking space in Helena!
URL:https://tomjonze.com/event/sidecar-4pm-showcase/
LOCATION:Sidecar\, 317 Cruse Ave Suite 202\, Helena\, MT\, 59601\, United States
CATEGORIES:Comedy,Stand up
ATTACH;FMTTYPE=image/png:https://tomjonze.com/wp-content/uploads/2025/09/tom_jonze_flyer.png
END:VEVENT
BEGIN:VEVENT
DTSTART;TZID=America/Denver:20251012T120000
DTEND;TZID=America/Denver:20251012T140000
DTSTAMP:20260425T143936
CREATED:20250916T060123Z
LAST-MODIFIED:20250916T060542Z
UID:133-1760270400-1760277600@tomjonze.com
SUMMARY:Sidecar Noon Showcase
DESCRIPTION:Join us for an afternoon of laughter with seven of the best comedians at the coolest coworking space in Helena!
URL:https://tomjonze.com/event/sidecar-noon-showcase/
LOCATION:Sidecar\, 317 Cruse Ave Suite 202\, Helena\, MT\, 59601\, United States
CATEGORIES:Comedy,Stand up
ATTACH;FMTTYPE=image/png:https://tomjonze.com/wp-content/uploads/2025/09/tom_jonze_flyer.png
END:VEVENT
BEGIN:VEVENT
DTSTART;TZID=America/Denver:20251011T200000
DTEND;TZID=America/Denver:20251011T220000
DTSTAMP:20260425T143936
CREATED:20250916T054444Z
LAST-MODIFIED:20250916T062304Z
UID:127-1760212800-1760220000@tomjonze.com
SUMMARY:Mt. Ascension 8pm - Showcase
DESCRIPTION:Join us for a night of laughter with seven of the best comedians on the beautiful rooftop at Mt. Ascension Gastropub in Helena!
URL:https://tomjonze.com/event/mt-ascension-8pm-showcase/
LOCATION:Mt Ascension Gastropub\, 317 Cruse Ave\, Helena\, MT\, 59601
CATEGORIES:Comedy,Stand up
ATTACH;FMTTYPE=image/png:https://tomjonze.com/wp-content/uploads/2025/09/tom_jonze_flyer.png
END:VEVENT
BEGIN:VEVENT
DTSTART;TZID=America/Denver:20251009T170000
DTEND;TZID=America/Denver:20251012T233000
DTSTAMP:20260425T143936
CREATED:20250916T053506Z
LAST-MODIFIED:20250916T055315Z
UID:123-1760029200-1760311800@tomjonze.com
SUMMARY:Helena Comedy Festival
DESCRIPTION:I am blown away to announce my first comedy festival appearance.  I get to see the beautiful Yellowstone National Park and tell the yuckyucks to the locals. This is exciting! \nI am on three shows\, Saturday October 11th and Sunday October 12th but the festival is October 9th – 12th.
URL:https://tomjonze.com/event/helena-comedy-festival/
LOCATION:CA
CATEGORIES:Comedy,Stand up
ATTACH;FMTTYPE=image/png:https://tomjonze.com/wp-content/uploads/2025/09/https___cdn.evbuc_.com_images_1067723613_900239923343_1_original.png
END:VEVENT
BEGIN:VEVENT
DTSTART;TZID=UTC:20251002T193000
DTEND;TZID=UTC:20251002T210000
DTSTAMP:20260425T143936
CREATED:20250210T160402Z
LAST-MODIFIED:20250911T204837Z
UID:69-1759433400-1759438800@tomjonze.com
SUMMARY:ØL Beer Cafe Comedy Night
DESCRIPTION:October 2\, 2025\, ØL Beer Cafe in Walnut Creek. \nTipped show and please support the venue! \n 
URL:https://tomjonze.com/event/ol-beer-cafe-comedy-night/
LOCATION:Øl Beercafe & Bottle Shop\, 1541 Giammona Dr\, Walnut Creek\, CA\, 94596\, United States
CATEGORIES:Comedy,Stand up
ATTACH;FMTTYPE=image/jpeg:https://tomjonze.com/wp-content/uploads/2025/01/Emily-Promo-Flyer-Jan2025.jpg
END:VEVENT
BEGIN:VEVENT
DTSTART;TZID=UTC:20250923T193000
DTEND;TZID=UTC:20250923T203000
DTSTAMP:20260425T143936
CREATED:20250916T064749Z
LAST-MODIFIED:20250916T064805Z
UID:157-1758655800-1758659400@tomjonze.com
SUMMARY:A Guy From Nowhere Presents Luna Sea Lounge Showcase
DESCRIPTION:I\, tomjonze\, will attempt what has never been attempted before … personally.  I will run a second showcase … monthly. Luna Sea Lounge will mix up the strong cocktails to coat your throat to cackle uncontrollably. \nI know I know\, where will I find the time to find new concepts to turn into brilliant humor with all this time spent on throwing two whole shows a month?!  I will just have to ask LordBezos to clone me.  Please come out to this tipped show and provide me enough tips* to buy a BezosBrandCopyTom3000. \n* all tips will be paid to Wonder Dave\, Dan Lewis\, and the inimitable CJ Koepp. I take only pride from entertaining scores of comedy fans.
URL:https://tomjonze.com/event/a-guy-from-nowhere-presents-luna-sea-lounge-showcase/
LOCATION:Luna Sea Lounge\, 121 Pringle Ave\, Walnut Creek\, CA\, 94596
CATEGORIES:Comedy,Stand up
ATTACH;FMTTYPE=image/png:https://tomjonze.com/wp-content/uploads/2025/09/Luna-Sea-Show.png
END:VEVENT
BEGIN:VEVENT
DTSTART;TZID=UTC:20250920T200000
DTEND;TZID=UTC:20250920T220000
DTSTAMP:20260425T143936
CREATED:20250916T063751Z
LAST-MODIFIED:20250916T063751Z
UID:152-1758398400-1758405600@tomjonze.com
SUMMARY:Comedy Oakland @ Calabash
DESCRIPTION:with Phil Johnson\, Priya Shekar\, Luis Perez (my favorite Bay Area luddite)\, Candy Shaw\, and Ira Summer.
URL:https://tomjonze.com/event/comedy-oakland-calabash/
LOCATION:Calabash\, 2300 Valdez St\, Oakland\, CA\, 94612
CATEGORIES:Comedy,Stand up
ATTACH;FMTTYPE=image/jpeg:https://tomjonze.com/wp-content/uploads/2025/09/COCalabash.jpg
END:VEVENT
BEGIN:VEVENT
DTSTART;TZID=UTC:20250918T200000
DTEND;TZID=UTC:20250918T220000
DTSTAMP:20260425T143936
CREATED:20250916T061652Z
LAST-MODIFIED:20250916T061652Z
UID:139-1758225600-1758232800@tomjonze.com
SUMMARY:"BEST OF THE BAY" Stand-Up Comedy @ The Showdown (North Beach\, SF)
DESCRIPTION:Doug Cordell\, Mollica Sokhom\, Mark Noyer\, and Kate Carson are also on the bill\, hosted and produced by Anthony Mitchell.
URL:https://tomjonze.com/event/best-of-the-bay-stand-up-comedy-the-showdown-north-beach-sf/
LOCATION:The Showdown\, 1268 Grant Ave\, San Francisco\, CA\, 94133
CATEGORIES:Comedy,Stand up
ATTACH;FMTTYPE=image/png:https://tomjonze.com/wp-content/uploads/2025/09/549608267_24416964464665069_2772865753612663658_n.png
END:VEVENT
BEGIN:VEVENT
DTSTART;TZID=America/Los_Angeles:20250916T190000
DTEND;TZID=America/Los_Angeles:20250916T210000
DTSTAMP:20260425T143936
CREATED:20250916T062726Z
LAST-MODIFIED:20250916T063203Z
UID:146-1758049200-1758056400@tomjonze.com
SUMMARY:Sunset Comedy @ Mersea
DESCRIPTION:Alameda Comedy presents Sunset Comedy @ Mersea.  A beautiful backdrop for the hilarity to ensue. Come through!
URL:https://tomjonze.com/event/sunset-comedy-mersea/
LOCATION:Mersea\, 699 Avenue of the Palms\, San Francisco\, CA\, 94130
CATEGORIES:Comedy,Stand up
ATTACH;FMTTYPE=image/jpeg:https://tomjonze.com/wp-content/uploads/2025/09/Sunset-Comedy-at-Mersea-UPDATED-WIDE.jpg
END:VEVENT
BEGIN:VEVENT
DTSTART;TZID=UTC:20250802T200000
DTEND;TZID=UTC:20250802T213000
DTSTAMP:20260425T143936
CREATED:20250716T190513Z
LAST-MODIFIED:20250716T190513Z
UID:107-1754164800-1754170200@tomjonze.com
SUMMARY:Comedy Night At Brunos!
DESCRIPTION:With headliner Matt Gubser and featuring Serena Gamboa & Jacob Blaeser.\nShow starts at 8PM.
URL:https://tomjonze.com/event/comedy-night-at-brunos/
LOCATION:Brunos\, 230 Mt Hermon Rd\, Scotts Valley\, CA\, 95066\, United States
CATEGORIES:Comedy,Stand up
ATTACH;FMTTYPE=image/jpeg:https://tomjonze.com/wp-content/uploads/2025/07/518961393_1299927451795495_1930752018886243317_n.jpg
END:VEVENT
BEGIN:VEVENT
DTSTART;TZID=UTC:20250726T220000
DTEND;TZID=UTC:20250726T230000
DTSTAMP:20260425T143936
CREATED:20250720T193007Z
LAST-MODIFIED:20250720T193007Z
UID:114-1753567200-1753570800@tomjonze.com
SUMMARY:Shock Collar Comedy Show
DESCRIPTION:Guest Set at Yellow Door in San Diego.  No collar for me…..or will there be?!
URL:https://tomjonze.com/event/shock-collar-comedy-show/
LOCATION:National Lampoon The Yellow Door\, 701 Fifth Ave\, 3rd Floor\, San Diego\, CA\, 92101\, United States
CATEGORIES:Comedy,Stand up
ATTACH;FMTTYPE=image/png:https://tomjonze.com/wp-content/uploads/2025/07/GalaxySquarespace.png
END:VEVENT
BEGIN:VEVENT
DTSTART;TZID=UTC:20250717T180000
DTEND;TZID=UTC:20250717T203000
DTSTAMP:20260425T143936
CREATED:20250716T185944Z
LAST-MODIFIED:20250716T190600Z
UID:102-1752775200-1752784200@tomjonze.com
SUMMARY:Bay Break Thursdays by #HellaFunny
DESCRIPTION:Clean Comedy showcase outdoors in Emeryville
URL:https://tomjonze.com/event/bay-break-thursdays-by-hellafunny/
LOCATION:Bay Street Emeryville\, 5614 Bay Street\, Emeryville\, CA\, 94608\, United States
CATEGORIES:Comedy,Stand up
ATTACH;FMTTYPE=image/jpeg:https://tomjonze.com/wp-content/uploads/2025/07/518589158_1787176968677077_903619199591051356_n.jpg
END:VEVENT
BEGIN:VEVENT
DTSTART;TZID=UTC:20250716T190000
DTEND;TZID=UTC:20250716T210000
DTSTAMP:20260425T143936
CREATED:20250716T185303Z
LAST-MODIFIED:20250716T185303Z
UID:99-1752692400-1752699600@tomjonze.com
SUMMARY:Dating Horror Stories 7 & 9PM shows
DESCRIPTION:I’m telling some tales from my dating life at The Function; SFs only Black Owned Comedy Club!\nThe Function\n1414 Market St\, San Francisco\, CA 94102
URL:https://tomjonze.com/event/dating-horror-stories-7-9pm-shows/
LOCATION:The Function\, 1414 Market St\, San Francisco\, CA\, 94102\, United States
END:VEVENT
BEGIN:VEVENT
DTSTART;TZID=UTC:20250502T193000
DTEND;TZID=UTC:20250502T213000
DTSTAMP:20260425T143936
CREATED:20250424T032600Z
LAST-MODIFIED:20250424T032600Z
UID:94-1746214200-1746221400@tomjonze.com
SUMMARY:About Last Night: Puppet Story
DESCRIPTION:Storytelling event in the SF Mission District. I’m telling my most popular story. \nTickets ->  https://www.eventbrite.com/e/about-last-night-the-show-where-people-share-their-worst-hookup-stories-tickets-1286950757359?aff=oddtdtcreator \n  \n 
URL:https://tomjonze.com/event/about-last-night-puppet-story/
LOCATION:Make-Out Room\, 3225 22nd Street\, San Francisco\, CA\, 94110\, United States
END:VEVENT
BEGIN:VEVENT
DTSTART;TZID=UTC:20250430T193000
DTEND;TZID=UTC:20250430T210000
DTSTAMP:20260425T143936
CREATED:20250424T031831Z
LAST-MODIFIED:20250424T031831Z
UID:90-1746041400-1746046800@tomjonze.com
SUMMARY:Sant Cruz Mountain Brewing
DESCRIPTION:Hot Soda Presents\nLaugh Organic\nSanta Cruz Mountain Brewing
URL:https://tomjonze.com/event/sant-cruz-mountain-brewing/
LOCATION:Santa Cruz Mountain Brewing\, 402 Ingalls St #27\, Santa Cruz\, CA\, 95060\, United States
ATTACH;FMTTYPE=image/png:https://tomjonze.com/wp-content/uploads/2025/04/SCMB.png
END:VEVENT
BEGIN:VEVENT
DTSTART;TZID=UTC:20250425T190000
DTEND;TZID=UTC:20250425T200000
DTSTAMP:20260425T143936
CREATED:20250424T031029Z
LAST-MODIFIED:20250424T031044Z
UID:87-1745607600-1745611200@tomjonze.com
SUMMARY:Morgan Territory (Tracy)
DESCRIPTION:Morgan Territory Brewing Show \n7PM \nA Fat-Kid Comedy Production
URL:https://tomjonze.com/event/morgan-territory-tracy/
LOCATION:Morgan Territory Brewing\, 1885 N MacArthur Dr\,\, Tracy\, CA\, 95376\, United States
END:VEVENT
END:VCALENDAR