BEGIN:VCALENDAR
VERSION:2.0
PRODID:-//Tom Jonze - ECPv6.15.20//NONSGML v1.0//EN
CALSCALE:GREGORIAN
METHOD:PUBLISH
X-WR-CALNAME:Tom Jonze
X-ORIGINAL-URL:https://tomjonze.com
X-WR-CALDESC:Events for Tom Jonze
REFRESH-INTERVAL;VALUE=DURATION:PT1H
X-Robots-Tag:noindex
X-PUBLISHED-TTL:PT1H
BEGIN:VTIMEZONE
TZID:UTC
BEGIN:STANDARD
TZOFFSETFROM:+0000
TZOFFSETTO:+0000
TZNAME:UTC
DTSTART:20250101T000000
END:STANDARD
END:VTIMEZONE
BEGIN:VEVENT
DTSTART;TZID=UTC:20260224T190000
DTEND;TZID=UTC:20260224T210000
DTSTAMP:20260425T154238
CREATED:20260217T232657Z
LAST-MODIFIED:20260217T232657Z
UID:193-1771959600-1771966800@tomjonze.com
SUMMARY:Bambinos in Concord
DESCRIPTION:
URL:https://tomjonze.com/event/bambinos-in-concord/
LOCATION:Bambinos\, 1895 Farm Bureau Rd suite g\,\, Concord\, CA\, 94519\, United States
CATEGORIES:Comedy,Stand up
END:VEVENT
BEGIN:VEVENT
DTSTART;TZID=UTC:20260226T190000
DTEND;TZID=UTC:20260226T220000
DTSTAMP:20260425T154238
CREATED:20260217T232947Z
LAST-MODIFIED:20260217T232947Z
UID:199-1772132400-1772143200@tomjonze.com
SUMMARY:Neck Of The Woods
DESCRIPTION:
URL:https://tomjonze.com/event/neck-of-the-woods/
LOCATION:Neck Of The Woods\, 406 Clement St\, San Francisco\, CA\, 94118
CATEGORIES:Comedy,Stand up
END:VEVENT
BEGIN:VEVENT
DTSTART;TZID=UTC:20260302T080000
DTEND;TZID=UTC:20260302T170000
DTSTAMP:20260425T154238
CREATED:20260217T233340Z
LAST-MODIFIED:20260217T233340Z
UID:202-1772438400-1772470800@tomjonze.com
SUMMARY:Mirthquake
DESCRIPTION:The Only Comedy Show In San Francisco. Really fun and unique show that mixes improv with standup hosted by the most amazing and kind comedians in the Bay; Andrew Holmgren and Ben Kolina.
URL:https://tomjonze.com/event/mirthquake/
LOCATION:The Abbey Tavern\, 4100 Geary Blvd\, San Francisco\, CA\, 94118
CATEGORIES:Comedy,Stand up
ATTACH;FMTTYPE=image/jpeg:https://tomjonze.com/wp-content/uploads/2026/02/Screenshot-2026-02-17-153200.jpg
END:VEVENT
BEGIN:VEVENT
DTSTART;TZID=UTC:20260312T180000
DTEND;TZID=UTC:20260312T200000
DTSTAMP:20260425T154238
CREATED:20260217T234328Z
LAST-MODIFIED:20260217T234328Z
UID:214-1773338400-1773345600@tomjonze.com
SUMMARY:Ameswell Hotel Headline Set
DESCRIPTION:Fun show in a beautiful hotel lobby in Silicon Valley
URL:https://tomjonze.com/event/ameswell-hotel-headline-set/
LOCATION:Ameswell Hotel\, 800 Moffett Blvd\, 94043
CATEGORIES:Comedy,Stand up
END:VEVENT
BEGIN:VEVENT
DTSTART;TZID=UTC:20260314T193000
DTEND;TZID=UTC:20260314T213000
DTSTAMP:20260425T154238
CREATED:20260217T235151Z
LAST-MODIFIED:20260217T235151Z
UID:217-1773516600-1773523800@tomjonze.com
SUMMARY:Laugh SJ Showcase
DESCRIPTION:BMo is my favorite comedian in the bay. Stoked for this show.
URL:https://tomjonze.com/event/laugh-sj-showcase/
LOCATION:Island Taste Carribean Grill\, 225 E Santa Clara St\, San Jose\, CA\, 95112
CATEGORIES:Comedy,Stand up
END:VEVENT
BEGIN:VEVENT
DTSTART;TZID=UTC:20260316T173000
DTEND;TZID=UTC:20260316T190000
DTSTAMP:20260425T154238
CREATED:20260217T235316Z
LAST-MODIFIED:20260217T235359Z
UID:221-1773682200-1773687600@tomjonze.com
SUMMARY:Kaleidoscope Coffee Showcase
DESCRIPTION:
URL:https://tomjonze.com/event/kaleidascope-coffee-showcase/
LOCATION:Kaleidoscope Coffee\, 109 Park Pl\, Richmond\, CA\, 94801
CATEGORIES:Comedy,Stand up
END:VEVENT
BEGIN:VEVENT
DTSTART;TZID=UTC:20260702T193000
DTEND;TZID=UTC:20260702T210000
DTSTAMP:20260425T154238
CREATED:20260217T231528Z
LAST-MODIFIED:20260217T231528Z
UID:172-1783020600-1783026000@tomjonze.com
SUMMARY:ØL Beercafe & Bottleshop
DESCRIPTION:Monthly showcase\, the first Thursday of the month\, at ØL Beercafe & Bottleshop in Walnut Creek\, featuring a rotating collection of comedians. Free show but tips encouraged to help the comedians pay for gas and therapy.  Come early\, seating has been packed every month.
URL:https://tomjonze.com/event/ol-beercafe-bottleshop-4/
LOCATION:Øl Beercafe & Bottle Shop\, 1541 Giammona Dr\, Walnut Creek\, CA\, 94596\, United States
CATEGORIES:Comedy,Stand up
ATTACH;FMTTYPE=image/jpeg:https://tomjonze.com/wp-content/uploads/2025/01/Emily-Promo-Flyer-Jan2025.jpg
END:VEVENT
BEGIN:VEVENT
DTSTART;TZID=UTC:20260806T193000
DTEND;TZID=UTC:20260806T210000
DTSTAMP:20260425T154238
CREATED:20260217T231633Z
LAST-MODIFIED:20260217T231633Z
UID:174-1786044600-1786050000@tomjonze.com
SUMMARY:ØL Beercafe & Bottleshop
DESCRIPTION:Monthly showcase\, the first Thursday of the month\, at ØL Beercafe & Bottleshop in Walnut Creek\, featuring a rotating collection of comedians. Free show but tips encouraged to help the comedians pay for gas and therapy.  Come early\, seating has been packed every month.
URL:https://tomjonze.com/event/ol-beercafe-bottleshop-5/
LOCATION:Øl Beercafe & Bottle Shop\, 1541 Giammona Dr\, Walnut Creek\, CA\, 94596\, United States
CATEGORIES:Comedy,Stand up
ATTACH;FMTTYPE=image/jpeg:https://tomjonze.com/wp-content/uploads/2025/01/Emily-Promo-Flyer-Jan2025.jpg
END:VEVENT
BEGIN:VEVENT
DTSTART;TZID=UTC:20260903T193000
DTEND;TZID=UTC:20260903T210000
DTSTAMP:20260425T154238
CREATED:20260217T231743Z
LAST-MODIFIED:20260217T231743Z
UID:176-1788463800-1788469200@tomjonze.com
SUMMARY:ØL Beercafe & Bottleshop
DESCRIPTION:Monthly showcase\, the first Thursday of the month\, at ØL Beercafe & Bottleshop in Walnut Creek\, featuring a rotating collection of comedians. Free show but tips encouraged to help the comedians pay for gas and therapy.  Come early\, seating has been packed every month.
URL:https://tomjonze.com/event/ol-beercafe-bottleshop-6/
LOCATION:Øl Beercafe & Bottle Shop\, 1541 Giammona Dr\, Walnut Creek\, CA\, 94596\, United States
CATEGORIES:Comedy,Stand up
ATTACH;FMTTYPE=image/jpeg:https://tomjonze.com/wp-content/uploads/2025/01/Emily-Promo-Flyer-Jan2025.jpg
END:VEVENT
BEGIN:VEVENT
DTSTART;TZID=UTC:20261001T193000
DTEND;TZID=UTC:20261001T210000
DTSTAMP:20260425T154238
CREATED:20260217T231915Z
LAST-MODIFIED:20260217T231915Z
UID:179-1790883000-1790888400@tomjonze.com
SUMMARY:ØL Beercafe & Bottleshop
DESCRIPTION:Monthly showcase\, the first Thursday of the month\, at ØL Beercafe & Bottleshop in Walnut Creek\, featuring a rotating collection of comedians. Free show but tips encouraged to help the comedians pay for gas and therapy.  Come early\, seating has been packed every month.
URL:https://tomjonze.com/event/ol-beercafe-bottleshop-7/
LOCATION:Øl Beercafe & Bottle Shop\, 1541 Giammona Dr\, Walnut Creek\, CA\, 94596\, United States
CATEGORIES:Comedy,Stand up
ATTACH;FMTTYPE=image/jpeg:https://tomjonze.com/wp-content/uploads/2025/01/Emily-Promo-Flyer-Jan2025.jpg
END:VEVENT
BEGIN:VEVENT
DTSTART;TZID=UTC:20261105T193000
DTEND;TZID=UTC:20261105T210000
DTSTAMP:20260425T154238
CREATED:20260217T232033Z
LAST-MODIFIED:20260217T232033Z
UID:183-1793907000-1793912400@tomjonze.com
SUMMARY:ØL Beercafe & Bottleshop
DESCRIPTION:Monthly showcase\, the first Thursday of the month\, at ØL Beercafe & Bottleshop in Walnut Creek\, featuring a rotating collection of comedians. Free show but tips encouraged to help the comedians pay for gas and therapy.  Come early\, seating has been packed every month.
URL:https://tomjonze.com/event/ol-beercafe-bottleshop-8/
LOCATION:Øl Beercafe & Bottle Shop\, 1541 Giammona Dr\, Walnut Creek\, CA\, 94596\, United States
CATEGORIES:Comedy,Stand up
ATTACH;FMTTYPE=image/jpeg:https://tomjonze.com/wp-content/uploads/2025/01/Emily-Promo-Flyer-Jan2025.jpg
END:VEVENT
BEGIN:VEVENT
DTSTART;TZID=UTC:20261203T193000
DTEND;TZID=UTC:20261203T210000
DTSTAMP:20260425T154238
CREATED:20260217T232200Z
LAST-MODIFIED:20260217T232200Z
UID:191-1796326200-1796331600@tomjonze.com
SUMMARY:ØL Beercafe & Bottleshop
DESCRIPTION:Monthly showcase\, the first Thursday of the month\, at ØL Beercafe & Bottleshop in Walnut Creek\, featuring a rotating collection of comedians. Free show but tips encouraged to help the comedians pay for gas and therapy.  Come early\, seating has been packed every month.
URL:https://tomjonze.com/event/ol-beercafe-bottleshop-9/
LOCATION:Øl Beercafe & Bottle Shop\, 1541 Giammona Dr\, Walnut Creek\, CA\, 94596\, United States
CATEGORIES:Comedy,Stand up
ATTACH;FMTTYPE=image/jpeg:https://tomjonze.com/wp-content/uploads/2025/01/Emily-Promo-Flyer-Jan2025.jpg
END:VEVENT
END:VCALENDAR