BEGIN:VCALENDAR
VERSION:2.0
PRODID:-//Tom Jonze - ECPv6.15.20//NONSGML v1.0//EN
CALSCALE:GREGORIAN
METHOD:PUBLISH
X-WR-CALNAME:Tom Jonze
X-ORIGINAL-URL:https://tomjonze.com
X-WR-CALDESC:Events for Tom Jonze
REFRESH-INTERVAL;VALUE=DURATION:PT1H
X-Robots-Tag:noindex
X-PUBLISHED-TTL:PT1H
BEGIN:VTIMEZONE
TZID:UTC
BEGIN:STANDARD
TZOFFSETFROM:+0000
TZOFFSETTO:+0000
TZNAME:UTC
DTSTART:20250101T000000
END:STANDARD
END:VTIMEZONE
BEGIN:VEVENT
DTSTART;TZID=UTC:20260418T190000
DTEND;TZID=UTC:20260418T220000
DTSTAMP:20260425T031621
CREATED:20260218T000319Z
LAST-MODIFIED:20260218T000319Z
UID:230-1776538800-1776549600@tomjonze.com
SUMMARY:Match Point Brewery Showcase
DESCRIPTION:The inaugural showcase for CackleMore Comedy
URL:https://tomjonze.com/event/match-point-brewery-showcase/
LOCATION:Match Point Brewing\, 745 San Pablo Ave\, Albany\, CA\, 94706
END:VEVENT
END:VCALENDAR